BEGIN:VCALENDAR
VERSION:2.0
PRODID:-//Neveh Shalom - ECPv6.15.20//NONSGML v1.0//EN
CALSCALE:GREGORIAN
METHOD:PUBLISH
X-WR-CALNAME:Neveh Shalom
X-ORIGINAL-URL:https://nevehshalom.org
X-WR-CALDESC:Events for Neveh Shalom
REFRESH-INTERVAL;VALUE=DURATION:PT1H
X-Robots-Tag:noindex
X-PUBLISHED-TTL:PT1H
BEGIN:VTIMEZONE
TZID:America/Los_Angeles
BEGIN:DAYLIGHT
TZOFFSETFROM:-0800
TZOFFSETTO:-0700
TZNAME:PDT
DTSTART:20230312T100000
END:DAYLIGHT
BEGIN:STANDARD
TZOFFSETFROM:-0700
TZOFFSETTO:-0800
TZNAME:PST
DTSTART:20231105T090000
END:STANDARD
BEGIN:DAYLIGHT
TZOFFSETFROM:-0800
TZOFFSETTO:-0700
TZNAME:PDT
DTSTART:20240310T100000
END:DAYLIGHT
BEGIN:STANDARD
TZOFFSETFROM:-0700
TZOFFSETTO:-0800
TZNAME:PST
DTSTART:20241103T090000
END:STANDARD
BEGIN:DAYLIGHT
TZOFFSETFROM:-0800
TZOFFSETTO:-0700
TZNAME:PDT
DTSTART:20250309T100000
END:DAYLIGHT
BEGIN:STANDARD
TZOFFSETFROM:-0700
TZOFFSETTO:-0800
TZNAME:PST
DTSTART:20251102T090000
END:STANDARD
END:VTIMEZONE
BEGIN:VEVENT
DTSTART;TZID=America/Los_Angeles:20240517T181500
DTEND;TZID=America/Los_Angeles:20240517T203000
DTSTAMP:20260423T014630
CREATED:20240510T213838Z
LAST-MODIFIED:20240510T214051Z
UID:10050841-1715969700-1715977800@nevehshalom.org
SUMMARY:Sisterhood Shabbat and Communal Dinner
DESCRIPTION:EVERYONE IS INVITED! \nFriday\, May 17\nService: 6:15 | Dinner: 7:15pm \nWe invite you to join us for a delicious salmon dinner\, lovingly prepared by CNS Sisterhood\, after they lead us in our Friday Kabbalat Shabbat service. We invite you to bring a dairy/parve side dish or dessert to share. \n$5.00/person for dinner. Click here to RSVP. Registration needed by Thursday\, May 16 at 12pm. \nClick here to join the live stream
URL:https://nevehshalom.org/event/kabbalat-shabbat-5/
LOCATION:Stampfer Chapel
CATEGORIES:Featured,Shabbat,Sisterhood
ATTACH;FMTTYPE=image/png:https://nevehshalom.org/wp-content/uploads/2021/09/Sisterhood-Shabbat-Jan-2022.png
ORGANIZER;CN="Congregation Neveh Shalom":MAILTO:receptionist@nevehshalom.org
END:VEVENT
END:VCALENDAR