BEGIN:VCALENDAR
VERSION:2.0
PRODID:-//Neveh Shalom - ECPv6.15.20//NONSGML v1.0//EN
CALSCALE:GREGORIAN
METHOD:PUBLISH
X-WR-CALNAME:Neveh Shalom
X-ORIGINAL-URL:https://nevehshalom.org
X-WR-CALDESC:Events for Neveh Shalom
REFRESH-INTERVAL;VALUE=DURATION:PT1H
X-Robots-Tag:noindex
X-PUBLISHED-TTL:PT1H
BEGIN:VTIMEZONE
TZID:America/Los_Angeles
BEGIN:DAYLIGHT
TZOFFSETFROM:-0800
TZOFFSETTO:-0700
TZNAME:PDT
DTSTART:20230312T100000
END:DAYLIGHT
BEGIN:STANDARD
TZOFFSETFROM:-0700
TZOFFSETTO:-0800
TZNAME:PST
DTSTART:20231105T090000
END:STANDARD
BEGIN:DAYLIGHT
TZOFFSETFROM:-0800
TZOFFSETTO:-0700
TZNAME:PDT
DTSTART:20240310T100000
END:DAYLIGHT
BEGIN:STANDARD
TZOFFSETFROM:-0700
TZOFFSETTO:-0800
TZNAME:PST
DTSTART:20241103T090000
END:STANDARD
BEGIN:DAYLIGHT
TZOFFSETFROM:-0800
TZOFFSETTO:-0700
TZNAME:PDT
DTSTART:20250309T100000
END:DAYLIGHT
BEGIN:STANDARD
TZOFFSETFROM:-0700
TZOFFSETTO:-0800
TZNAME:PST
DTSTART:20251102T090000
END:STANDARD
END:VTIMEZONE
BEGIN:VEVENT
DTSTART;TZID=America/Los_Angeles:20240804T101500
DTEND;TZID=America/Los_Angeles:20240804T110000
DTSTAMP:20260423T014649
CREATED:20240523T234331Z
LAST-MODIFIED:20240624T165520Z
UID:10051270-1722766500-1722769200@nevehshalom.org
SUMMARY:Storytime with Rabbi Eve at the Farmer's Market
DESCRIPTION:Meet Rabbi Eve on the covered playground at the Hillsdale Farmers Market/Rieki Elementary school playground for a story or two and time to play with your CNS friends. \nQuestions? eposen@nevehshalom.org
URL:https://nevehshalom.org/event/storytime-with-rabbi-eve/2024-08-04/
LOCATION:Offsite
CATEGORIES:Featured,Young Family
ATTACH;FMTTYPE=image/jpeg:https://nevehshalom.org/wp-content/uploads/2019/04/Storytime-at-Hillsdale-Farmers-Market-with-Rabbi-Eve-Posen.jpg
ORGANIZER;CN="Rabbi Eve Posen":MAILTO:eposen@nevehshalom.org
END:VEVENT
END:VCALENDAR