BEGIN:VCALENDAR
VERSION:2.0
PRODID:-//Neveh Shalom - ECPv6.15.20//NONSGML v1.0//EN
CALSCALE:GREGORIAN
METHOD:PUBLISH
X-WR-CALNAME:Neveh Shalom
X-ORIGINAL-URL:https://nevehshalom.org
X-WR-CALDESC:Events for Neveh Shalom
REFRESH-INTERVAL;VALUE=DURATION:PT1H
X-Robots-Tag:noindex
X-PUBLISHED-TTL:PT1H
BEGIN:VTIMEZONE
TZID:America/Los_Angeles
BEGIN:DAYLIGHT
TZOFFSETFROM:-0800
TZOFFSETTO:-0700
TZNAME:PDT
DTSTART:20240310T100000
END:DAYLIGHT
BEGIN:STANDARD
TZOFFSETFROM:-0700
TZOFFSETTO:-0800
TZNAME:PST
DTSTART:20241103T090000
END:STANDARD
BEGIN:DAYLIGHT
TZOFFSETFROM:-0800
TZOFFSETTO:-0700
TZNAME:PDT
DTSTART:20250309T100000
END:DAYLIGHT
BEGIN:STANDARD
TZOFFSETFROM:-0700
TZOFFSETTO:-0800
TZNAME:PST
DTSTART:20251102T090000
END:STANDARD
BEGIN:DAYLIGHT
TZOFFSETFROM:-0800
TZOFFSETTO:-0700
TZNAME:PDT
DTSTART:20260308T100000
END:DAYLIGHT
BEGIN:STANDARD
TZOFFSETFROM:-0700
TZOFFSETTO:-0800
TZNAME:PST
DTSTART:20261101T090000
END:STANDARD
END:VTIMEZONE
BEGIN:VEVENT
DTSTART;TZID=America/Los_Angeles:20250601T091500
DTEND;TZID=America/Los_Angeles:20250601T103000
DTSTAMP:20260425T063942
CREATED:20250109T195046Z
LAST-MODIFIED:20250617T200225Z
UID:10053273-1748769300-1748773800@nevehshalom.org
SUMMARY:Did Jew Know? The Jewish Lifecycle with Rabbi Eve Posen
DESCRIPTION:The Jewish Lifecycle with Rabbi Eve Posen\nStarting Sunday\, January 12\, 9:15-10:30am \nJoin your CNS Clergy to explore the basics of Jewish living and learning. This series of classes about all things Jewish\, is designed for individuals of all backgrounds who are interested in understanding Jewish traditions\, beliefs\, and customs. Each module of the Did Jew Know? series will be taught in 5-unique lessons. Each module is a standalone experience; you can begin the series in any order. No advanced knowledge or learning is necessary. Click here for future dates and to register.
URL:https://nevehshalom.org/event/did-jew-know-the-jewish-lifecycle-with-rabbi-eve-posen/2025-06-01/
LOCATION:Neveh Shalom\, 2900 SW Peaceful Lane\, Portland\, OR\, 97239\, United States
CATEGORIES:Adult Education
ATTACH;FMTTYPE=image/jpeg:https://nevehshalom.org/wp-content/uploads/2024/08/Did-jew-know-1.jpg
ORGANIZER;CN="Rabbi Eve Posen":MAILTO:eposen@nevehshalom.org
END:VEVENT
BEGIN:VEVENT
DTSTART;TZID=America/Los_Angeles:20250601T100000
DTEND;TZID=America/Los_Angeles:20250601T121500
DTSTAMP:20260425T063942
CREATED:20250509T195951Z
LAST-MODIFIED:20250509T195951Z
UID:10054064-1748772000-1748780100@nevehshalom.org
SUMMARY:The Song of Miriam Awards: Sheri Cordova
DESCRIPTION:The Song of Miriam Awards: Sheri Cordova\nSunday\, June 1 | 10:00am-12:15pm\nMittleman Jewish Community Center\nRegistration here!\nNeveh Shalom is proud to honor Sheri Cordova as our CNS 2025 Women’s Round Table Song of Miriam Award recipient. Sheri has dedicated decades of service to Neveh Shalom—as Co-Executive Director\, committee chair\, board member\, and co-leader of the Hesed Committee\, which offers vital support programs for congregants in need. Her deep commitment continues to enrich our community. Come celebrate Sheri at the award ceremony and brunch
URL:https://nevehshalom.org/event/the-song-of-miriam-awards-sheri-cordova/
LOCATION:MJCC\, 6651 SW Capitol Hwy\, Portland\, OR\, 97219
ATTACH;FMTTYPE=image/jpeg:https://nevehshalom.org/wp-content/uploads/2022/01/Neveh-Shalom-Outdoor-scaled.jpg
END:VEVENT
BEGIN:VEVENT
DTSTART;TZID=America/Los_Angeles:20250601T110000
DTEND;TZID=America/Los_Angeles:20250601T160000
DTSTAMP:20260425T063942
CREATED:20250509T194557Z
LAST-MODIFIED:20250509T194619Z
UID:10054063-1748775600-1748793600@nevehshalom.org
SUMMARY:Mah Jongg Tournament 2025
DESCRIPTION:The Marianne Wollstein Mah Jongg Madness Brunch and Tournament\nSunday\, June 1\, 2025\n11:00am-4:00pm\nRegister here!\nPlease join us for a fun-filled day of Mah Jongg and friendship.\nExperienced and new players are welcome. (No teaching)\nTournament play requires you to be able to play four hands in under one hour. \n\n11:00 am – 12:00 pm Brunch and explanation of rules\n12:00 pm – 4:00 pm Tournament and prizes\n\n$40.00/person ~ Register by Monday\, May 19th.\nWe do not provide refunds. Please register early as space is limited. \nBring your 2025 National Mah Jongg League card. \nFor more information please contact: Judi Goodman (503) 531-7205 or Robin Furman (503) 850-6768 \nSponsored by Neveh Shalom Sisterhood
URL:https://nevehshalom.org/event/mah-jongg-tournament-2025/
LOCATION:Neveh Shalom\, 2900 SW Peaceful Lane\, Portland\, OR\, 97239\, United States
CATEGORIES:Sisterhood
ATTACH;FMTTYPE=image/jpeg:https://nevehshalom.org/wp-content/uploads/2022/07/mahjong-3411181-web.jpg
ORGANIZER;CN="Lisa Richmond":MAILTO:lrichmond@nevehshalom.org
END:VEVENT
BEGIN:VEVENT
DTSTART;TZID=America/Los_Angeles:20250601T160000
DTEND;TZID=America/Los_Angeles:20250601T171500
DTSTAMP:20260425T063942
CREATED:20250509T200325Z
LAST-MODIFIED:20250509T200325Z
UID:10054065-1748793600-1748798100@nevehshalom.org
SUMMARY:Shavuot Young Family Program
DESCRIPTION:Shavuot Young Family Program\nSunday\, June 1 | 4:00-5:15pm\nJoin Morah Candace and friends as we celebrate Shavuot!
URL:https://nevehshalom.org/event/shavuot-young-family-program/
LOCATION:Neveh Shalom\, 2900 SW Peaceful Lane\, Portland\, OR\, 97239\, United States
CATEGORIES:Young Family
ATTACH;FMTTYPE=image/png:https://nevehshalom.org/wp-content/uploads/2025/05/Shavuot-5785.png
ORGANIZER;CN="Candace Rothstein":MAILTO:crothstein@nevehshalom.org
END:VEVENT
BEGIN:VEVENT
DTSTART;TZID=America/Los_Angeles:20250601T183000
DTEND;TZID=America/Los_Angeles:20250601T210000
DTSTAMP:20260425T063942
CREATED:20250430T232523Z
LAST-MODIFIED:20250516T201528Z
UID:10054035-1748802600-1748811600@nevehshalom.org
SUMMARY:Shavuot Service & Tikkun Le'il Panel
DESCRIPTION:Shavuot Service & Tikkun Le’il Panel\nPassing it on: Transmitting Torah through Word\, Art\, and Song\nSunday\, June 1\n6:30-9:30pm\n\nOur tradition says there are 70 faces of torah with multiple layers of meaning. Join us as we learn from our community teachers\, artists\, and leaders dedicated to transmitting torah in a variety of ways. Enjoy an exciting panel discussion and thought-provoking learning sessions that will enrich how we transmit torah to our family\, friends\, and community.\n\n6:30-7pm     Nosh\n7-7:30pm     Tikkun Le’il Learning Session: Eddy Shuldman\nIt’s a Journey: Notes from a Jewish Art Studio\nMorah and artist Eddy Shuldman guides participants to discover opportunities for creativity and spiritual wisdom through Jewish texts.\n7:30-8:15     Panel Discussion: Rabbi Kosak\, Rabbi Posen\, Cantor Bitton\, Morah Vicki Rotstein\, Morah Eddy Shuldman\, and Moreh Gershon Lieberman discuss the various modalities in which               they transmit torah.\n8:15-8:45     Shavuot Service\n8:45-9        Cheesecake & Coffee\n9-9:30        Tikkun  Le’il Learning Session: Gershon Liberman\nMoreh Gershon Liberman draws upon his decades-long teaching career to reflect upon presenting Torah to different ages\, abilities\, and interests. \n 
URL:https://nevehshalom.org/event/shavuot-5785/
LOCATION:Neveh Shalom\, 2900 SW Peaceful Lane\, Portland\, OR\, 97239\, United States
ATTACH;FMTTYPE=application/pdf:https://nevehshalom.org/wp-content/uploads/2025/04/Shavuot-5785.pdf
ORGANIZER;CN="Lisa Richmond":MAILTO:lrichmond@nevehshalom.org
END:VEVENT
END:VCALENDAR