BEGIN:VCALENDAR
VERSION:2.0
PRODID:-//Neveh Shalom - ECPv6.15.20//NONSGML v1.0//EN
CALSCALE:GREGORIAN
METHOD:PUBLISH
X-ORIGINAL-URL:https://nevehshalom.org
X-WR-CALDESC:Events for Neveh Shalom
REFRESH-INTERVAL;VALUE=DURATION:PT1H
X-Robots-Tag:noindex
X-PUBLISHED-TTL:PT1H
BEGIN:VTIMEZONE
TZID:America/Los_Angeles
BEGIN:DAYLIGHT
TZOFFSETFROM:-0800
TZOFFSETTO:-0700
TZNAME:PDT
DTSTART:20240310T100000
END:DAYLIGHT
BEGIN:STANDARD
TZOFFSETFROM:-0700
TZOFFSETTO:-0800
TZNAME:PST
DTSTART:20241103T090000
END:STANDARD
BEGIN:DAYLIGHT
TZOFFSETFROM:-0800
TZOFFSETTO:-0700
TZNAME:PDT
DTSTART:20250309T100000
END:DAYLIGHT
BEGIN:STANDARD
TZOFFSETFROM:-0700
TZOFFSETTO:-0800
TZNAME:PST
DTSTART:20251102T090000
END:STANDARD
BEGIN:DAYLIGHT
TZOFFSETFROM:-0800
TZOFFSETTO:-0700
TZNAME:PDT
DTSTART:20260308T100000
END:DAYLIGHT
BEGIN:STANDARD
TZOFFSETFROM:-0700
TZOFFSETTO:-0800
TZNAME:PST
DTSTART:20261101T090000
END:STANDARD
END:VTIMEZONE
BEGIN:VEVENT
DTSTART;TZID=America/Los_Angeles:20250608T091500
DTEND;TZID=America/Los_Angeles:20250608T103000
DTSTAMP:20260425T040034
CREATED:20250109T195046Z
LAST-MODIFIED:20250617T200225Z
UID:10053274-1749374100-1749378600@nevehshalom.org
SUMMARY:Did Jew Know? The Jewish Lifecycle with Rabbi Eve Posen
DESCRIPTION:The Jewish Lifecycle with Rabbi Eve Posen\nStarting Sunday\, January 12\, 9:15-10:30am \nJoin your CNS Clergy to explore the basics of Jewish living and learning. This series of classes about all things Jewish\, is designed for individuals of all backgrounds who are interested in understanding Jewish traditions\, beliefs\, and customs. Each module of the Did Jew Know? series will be taught in 5-unique lessons. Each module is a standalone experience; you can begin the series in any order. No advanced knowledge or learning is necessary. Click here for future dates and to register.
URL:https://nevehshalom.org/event/did-jew-know-the-jewish-lifecycle-with-rabbi-eve-posen/2025-06-08/
LOCATION:Neveh Shalom\, 2900 SW Peaceful Lane\, Portland\, OR\, 97239\, United States
CATEGORIES:Adult Education
ATTACH;FMTTYPE=image/jpeg:https://nevehshalom.org/wp-content/uploads/2024/08/Did-jew-know-1.jpg
ORGANIZER;CN="Rabbi Eve Posen":MAILTO:eposen@nevehshalom.org
END:VEVENT
END:VCALENDAR