BEGIN:VCALENDAR
VERSION:2.0
PRODID:-//Neveh Shalom - ECPv6.15.20//NONSGML v1.0//EN
CALSCALE:GREGORIAN
METHOD:PUBLISH
X-WR-CALNAME:Neveh Shalom
X-ORIGINAL-URL:https://nevehshalom.org
X-WR-CALDESC:Events for Neveh Shalom
REFRESH-INTERVAL;VALUE=DURATION:PT1H
X-Robots-Tag:noindex
X-PUBLISHED-TTL:PT1H
BEGIN:VTIMEZONE
TZID:America/Los_Angeles
BEGIN:DAYLIGHT
TZOFFSETFROM:-0800
TZOFFSETTO:-0700
TZNAME:PDT
DTSTART:20240310T100000
END:DAYLIGHT
BEGIN:STANDARD
TZOFFSETFROM:-0700
TZOFFSETTO:-0800
TZNAME:PST
DTSTART:20241103T090000
END:STANDARD
BEGIN:DAYLIGHT
TZOFFSETFROM:-0800
TZOFFSETTO:-0700
TZNAME:PDT
DTSTART:20250309T100000
END:DAYLIGHT
BEGIN:STANDARD
TZOFFSETFROM:-0700
TZOFFSETTO:-0800
TZNAME:PST
DTSTART:20251102T090000
END:STANDARD
BEGIN:DAYLIGHT
TZOFFSETFROM:-0800
TZOFFSETTO:-0700
TZNAME:PDT
DTSTART:20260308T100000
END:DAYLIGHT
BEGIN:STANDARD
TZOFFSETFROM:-0700
TZOFFSETTO:-0800
TZNAME:PST
DTSTART:20261101T090000
END:STANDARD
END:VTIMEZONE
BEGIN:VEVENT
DTSTART;TZID=America/Los_Angeles:20250630T071500
DTEND;TZID=America/Los_Angeles:20250630T080000
DTSTAMP:20260424T065154
CREATED:20240930T193907Z
LAST-MODIFIED:20250605T203739Z
UID:10052008-1751267700-1751270400@nevehshalom.org
SUMMARY:Morning Minyan
DESCRIPTION:Daily Morning Minyan – Meets in the Zidell Chapel and on Zoom.\n\nMonday-Friday: 7:15am start time (7am Rosh Chodesh)\nSundays: 8:45am\nOffice closure holidays: 9:00am\nFeel free to join us 15 minutes earlier for schmoozing.\n\nMorning Minyan meets in the Zidell Chapel Sunday-Friday. We also have the option of joining the minyan online. \nClick here to log in. \nPlease email Priscilla Kostiner for further information: lamalo@comcast.net \nUse the book: Siddur Sim Shalom Shacharit Weekdays\nClick here for the list of pages used in the service \nPlease click here for a short video about how to turn down your mic volume in Zoom. \n—————–\nDaily Minyan Schedule\n\nSunday – 8:45am\nMonday-Friday – 7:15am\n\nThese times apply year-round except on Rosh Chodesh and intermediate days of a holiday (Sukkot\, Chanukah\, and Passover) when services begin at 7:00am. Services on Sundays\, major Jewish holidays\, and major American holidays begin at 9:00am\, year-round.
URL:https://nevehshalom.org/event/morning-minyan-32/2025-06-30/
LOCATION:Zidell Chapel
CATEGORIES:Morning Minyan
ATTACH;FMTTYPE=image/jpeg:https://nevehshalom.org/wp-content/uploads/2019/01/Zidell-Chapel-Ark-3-crop.jpg
ORGANIZER;CN="Congregation Neveh Shalom":MAILTO:receptionist@nevehshalom.org
END:VEVENT
BEGIN:VEVENT
DTSTART;TZID=America/Los_Angeles:20250630T190000
DTEND;TZID=America/Los_Angeles:20250630T200000
DTSTAMP:20260424T065155
CREATED:20250520T232800Z
LAST-MODIFIED:20250520T232831Z
UID:10054091-1751310000-1751313600@nevehshalom.org
SUMMARY:Sisterhood Book Club: The Sun Does Shine by Anthony Ray Hinton
DESCRIPTION:Sisterhood Book Club: The Sun Does Shine by Anthony Ray Hinton\nMonday\, June 30\n7:00-8:00pm\nZoom\n\n\nJoin the Sisterhood for their monthly book club discussion\, this month on the book The Sun Does Shine by Anthony Ray Hinton \nEmail Diane Kahn for Zoom link.\nContact: dianeandjosh@hotmail.com
URL:https://nevehshalom.org/event/sisterhood-book-club-the-sun-does-shine-by-anthony-ray-hinton/
LOCATION:Neveh Shalom\, 2900 SW Peaceful Lane\, Portland\, OR\, 97239\, United States
CATEGORIES:Sisterhood
ATTACH;FMTTYPE=image/png:https://nevehshalom.org/wp-content/uploads/2022/01/Sisterhood-Bookgroup.png
ORGANIZER;CN="Diane Kahn":MAILTO:dianeandjosh@hotmail.com
END:VEVENT
END:VCALENDAR