BEGIN:VCALENDAR
VERSION:2.0
PRODID:-//Neveh Shalom - ECPv6.15.20//NONSGML v1.0//EN
CALSCALE:GREGORIAN
METHOD:PUBLISH
X-ORIGINAL-URL:https://nevehshalom.org
X-WR-CALDESC:Events for Neveh Shalom
REFRESH-INTERVAL;VALUE=DURATION:PT1H
X-Robots-Tag:noindex
X-PUBLISHED-TTL:PT1H
BEGIN:VTIMEZONE
TZID:America/Los_Angeles
BEGIN:DAYLIGHT
TZOFFSETFROM:-0800
TZOFFSETTO:-0700
TZNAME:PDT
DTSTART:20250309T100000
END:DAYLIGHT
BEGIN:STANDARD
TZOFFSETFROM:-0700
TZOFFSETTO:-0800
TZNAME:PST
DTSTART:20251102T090000
END:STANDARD
BEGIN:DAYLIGHT
TZOFFSETFROM:-0800
TZOFFSETTO:-0700
TZNAME:PDT
DTSTART:20260308T100000
END:DAYLIGHT
BEGIN:STANDARD
TZOFFSETFROM:-0700
TZOFFSETTO:-0800
TZNAME:PST
DTSTART:20261101T090000
END:STANDARD
BEGIN:DAYLIGHT
TZOFFSETFROM:-0800
TZOFFSETTO:-0700
TZNAME:PDT
DTSTART:20270314T100000
END:DAYLIGHT
BEGIN:STANDARD
TZOFFSETFROM:-0700
TZOFFSETTO:-0800
TZNAME:PST
DTSTART:20271107T090000
END:STANDARD
END:VTIMEZONE
BEGIN:VEVENT
DTSTART;TZID=America/Los_Angeles:20260226T130000
DTEND;TZID=America/Los_Angeles:20260226T150000
DTSTAMP:20260422T084442
CREATED:20260120T212245Z
LAST-MODIFIED:20260120T212245Z
UID:10055517-1772110800-1772118000@nevehshalom.org
SUMMARY:Hamentaschen-making with JFCS Holocaust Survivors (Volunteers Needed)
DESCRIPTION:Tikkun Olam (Volunteers Needed)\nHamentaschen-making with JFCS Holocaust Survivors\nThursday\, February 26 | 1:00-3:00pm\nContact Lisa to Volunteer\n\n\n\nHelp us with a true mitzvah as we welcome JFCS Holocaust survivors for a hamentaschen-making experience. Volunteers are needed to prep\, roll out dough\, tend to the oven\, and simply schmooze with our guests. Please contact Lisa Richmond to volunteer.
URL:https://nevehshalom.org/event/hamentaschen-making-with-jfcs-holocaust-survivors-volunteers-needed/
LOCATION:Neveh Shalom\, 2900 SW Peaceful Lane\, Portland\, OR\, 97239\, United States
CATEGORIES:Tikkun Olam
ATTACH;FMTTYPE=image/jpeg:https://nevehshalom.org/wp-content/uploads/2026/01/IMG_3977.jpeg
ORGANIZER;CN="Lisa Richmond":MAILTO:lrichmond@nevehshalom.org
END:VEVENT
BEGIN:VEVENT
DTSTART;TZID=America/Los_Angeles:20260226T183000
DTEND;TZID=America/Los_Angeles:20260226T203000
DTSTAMP:20260422T084442
CREATED:20260120T211308Z
LAST-MODIFIED:20260120T211323Z
UID:10055515-1772130600-1772137800@nevehshalom.org
SUMMARY:Men’s Club Torah on Tap
DESCRIPTION:Men’s Club Torah on Tap\nThursday\, February 26 | 6:30-8:30pm\nContact Mitch for Location\n\nCome hang out with CNS Men’s Club for pizza\, salad\, beer\, camaraderie\, and discussion! Come meet new friends\, eat some pizza\, have a beer\, and maybe learn something!
URL:https://nevehshalom.org/event/mens-club-torah-on-tap-3/
LOCATION:OR
CATEGORIES:Men’s Club
ATTACH;FMTTYPE=image/jpeg:https://nevehshalom.org/wp-content/uploads/2024/11/Beer-Bible-Night1.jpg
ORGANIZER;CN="Mitch Elovitz":MAILTO:elovitzclan@comcast.net
END:VEVENT
END:VCALENDAR