BEGIN:VCALENDAR
VERSION:2.0
PRODID:-//Neveh Shalom - ECPv6.15.20//NONSGML v1.0//EN
CALSCALE:GREGORIAN
METHOD:PUBLISH
X-ORIGINAL-URL:https://nevehshalom.org
X-WR-CALDESC:Events for Neveh Shalom
REFRESH-INTERVAL;VALUE=DURATION:PT1H
X-Robots-Tag:noindex
X-PUBLISHED-TTL:PT1H
BEGIN:VTIMEZONE
TZID:America/Los_Angeles
BEGIN:DAYLIGHT
TZOFFSETFROM:-0800
TZOFFSETTO:-0700
TZNAME:PDT
DTSTART:20230312T100000
END:DAYLIGHT
BEGIN:STANDARD
TZOFFSETFROM:-0700
TZOFFSETTO:-0800
TZNAME:PST
DTSTART:20231105T090000
END:STANDARD
BEGIN:DAYLIGHT
TZOFFSETFROM:-0800
TZOFFSETTO:-0700
TZNAME:PDT
DTSTART:20240310T100000
END:DAYLIGHT
BEGIN:STANDARD
TZOFFSETFROM:-0700
TZOFFSETTO:-0800
TZNAME:PST
DTSTART:20241103T090000
END:STANDARD
BEGIN:DAYLIGHT
TZOFFSETFROM:-0800
TZOFFSETTO:-0700
TZNAME:PDT
DTSTART:20250309T100000
END:DAYLIGHT
BEGIN:STANDARD
TZOFFSETFROM:-0700
TZOFFSETTO:-0800
TZNAME:PST
DTSTART:20251102T090000
END:STANDARD
END:VTIMEZONE
BEGIN:VEVENT
DTSTART;TZID=America/Los_Angeles:20240718T120000
DTEND;TZID=America/Los_Angeles:20240718T130000
DTSTAMP:20260423T052502
CREATED:20240311T194358Z
LAST-MODIFIED:20240311T194358Z
UID:10051153-1721304000-1721307600@nevehshalom.org
SUMMARY:Wise Women Social Brown Bag Lunch
DESCRIPTION:Wise Women is a friendly group that provides an opportunity for women to come together\, socialize\, and empower one another in a casual environment. \nNo RSVP needed\, just come and enjoy!
URL:https://nevehshalom.org/event/wise-women-social-brown-bag-lunch-4/2024-07-18/
LOCATION:Neveh Shalom\, 2900 SW Peaceful Lane\, Portland\, OR\, 97239\, United States
CATEGORIES:Featured,Wondering Jews 65+
ATTACH;FMTTYPE=image/png:https://nevehshalom.org/wp-content/uploads/2022/09/Wise-Women-Header-web.png
ORGANIZER;CN="Lisa Richmond":MAILTO:lrichmond@nevehshalom.org
END:VEVENT
END:VCALENDAR