BEGIN:VCALENDAR
VERSION:2.0
PRODID:-//Neveh Shalom - ECPv6.15.20//NONSGML v1.0//EN
CALSCALE:GREGORIAN
METHOD:PUBLISH
X-ORIGINAL-URL:https://nevehshalom.org
X-WR-CALDESC:Events for Neveh Shalom
REFRESH-INTERVAL;VALUE=DURATION:PT1H
X-Robots-Tag:noindex
X-PUBLISHED-TTL:PT1H
BEGIN:VTIMEZONE
TZID:America/Los_Angeles
BEGIN:DAYLIGHT
TZOFFSETFROM:-0800
TZOFFSETTO:-0700
TZNAME:PDT
DTSTART:20230312T100000
END:DAYLIGHT
BEGIN:STANDARD
TZOFFSETFROM:-0700
TZOFFSETTO:-0800
TZNAME:PST
DTSTART:20231105T090000
END:STANDARD
BEGIN:DAYLIGHT
TZOFFSETFROM:-0800
TZOFFSETTO:-0700
TZNAME:PDT
DTSTART:20240310T100000
END:DAYLIGHT
BEGIN:STANDARD
TZOFFSETFROM:-0700
TZOFFSETTO:-0800
TZNAME:PST
DTSTART:20241103T090000
END:STANDARD
BEGIN:DAYLIGHT
TZOFFSETFROM:-0800
TZOFFSETTO:-0700
TZNAME:PDT
DTSTART:20250309T100000
END:DAYLIGHT
BEGIN:STANDARD
TZOFFSETFROM:-0700
TZOFFSETTO:-0800
TZNAME:PST
DTSTART:20251102T090000
END:STANDARD
END:VTIMEZONE
BEGIN:VEVENT
DTSTART;TZID=America/Los_Angeles:20240726T174500
DTEND;TZID=America/Los_Angeles:20240726T181500
DTSTAMP:20260423T024300
CREATED:20240624T165258Z
LAST-MODIFIED:20240626T202912Z
UID:10051248-1722015900-1722017700@nevehshalom.org
SUMMARY:Family Fourth Friday Pre-Shabbat Fun w/ Rabbi Eve
DESCRIPTION:4th Friday of every month\, 5:45pm\, In the Summer\, we meet in the Stern Family Lower Courtyard \nRabbi Eve Posen leads this interactive gathering before services (at 6:15pm) with Shabbat singing and fun for families with children 0-10. \nBring a picnic dinner to enjoy. \nStay afterward for our Shabbat on the Plaza service and celebration. \nQuestions? eposen@nevehshalom.org.
URL:https://nevehshalom.org/event/family-fourth-friday-shabbat-w-rabbi-eve-2022-06-24-2-2-4/
LOCATION:Stern Family Courtyard
CATEGORIES:Featured,Shabbat,Young Family,Youth and Family Shabbat
ATTACH;FMTTYPE=image/jpeg:https://nevehshalom.org/wp-content/uploads/2019/02/fourth-friday.jpg
ORGANIZER;CN="Rabbi Eve Posen":MAILTO:eposen@nevehshalom.org
END:VEVENT
BEGIN:VEVENT
DTSTART;TZID=America/Los_Angeles:20240726T181500
DTEND;TZID=America/Los_Angeles:20240726T200000
DTSTAMP:20260423T024300
CREATED:20240718T163359Z
LAST-MODIFIED:20240723T182519Z
UID:10051316-1722017700-1722024000@nevehshalom.org
SUMMARY:Shabbat on the Plaza: Chanukah in July
DESCRIPTION:“Chanukah\, oh Chanukah\, come light the…” \nWHAT? Chanukah in the summertime? Absolutely! For the flavors at least. If you are pining for the fried culinary delights of Chanukah but can’t wait until December\, we’ve got you covered with this special service and oneg\, featuring latkes\, donuts\, and more.” \nSponsored by Helen Tieger and Rabbi Daniel Pressman \nAbout Shabbat on the Plaza\nJoin us Every Friday this Summer at 6:15pm for our Shabbat on the Plaza! \nShabbat on the Plaza offers an outdoor\, spiritual service in the beauty of the Holzman Plaza followed by a nosh and time for Kehillah. It’s a space for contemplation\, inspiration\, and connection\, designed to nurture both the spirit and community ties. \nClick here to learn more about our themes\, sponsorship and volunteer opportunities.
URL:https://nevehshalom.org/event/shabbat-on-the-plaza-chanukah-in-july/
LOCATION:Holzman Plaza\, 2900 SW Peaceful Ln.\, Portland\, OR\, 97239\, United States
CATEGORIES:Featured,Shabbat,Shabbat on the Plaza
ATTACH;FMTTYPE=image/png:https://nevehshalom.org/wp-content/uploads/2023/06/Chanukah-in-July-Shabbat-on-the-Plaza-Header-2.png
ORGANIZER;CN="Lisa Richmond":MAILTO:lrichmond@nevehshalom.org
END:VEVENT
END:VCALENDAR