BEGIN:VCALENDAR
VERSION:2.0
PRODID:-//Neveh Shalom - ECPv6.15.20//NONSGML v1.0//EN
CALSCALE:GREGORIAN
METHOD:PUBLISH
X-WR-CALNAME:Neveh Shalom
X-ORIGINAL-URL:https://nevehshalom.org
X-WR-CALDESC:Events for Neveh Shalom
REFRESH-INTERVAL;VALUE=DURATION:PT1H
X-Robots-Tag:noindex
X-PUBLISHED-TTL:PT1H
BEGIN:VTIMEZONE
TZID:America/Los_Angeles
BEGIN:DAYLIGHT
TZOFFSETFROM:-0800
TZOFFSETTO:-0700
TZNAME:PDT
DTSTART:20240310T100000
END:DAYLIGHT
BEGIN:STANDARD
TZOFFSETFROM:-0700
TZOFFSETTO:-0800
TZNAME:PST
DTSTART:20241103T090000
END:STANDARD
BEGIN:DAYLIGHT
TZOFFSETFROM:-0800
TZOFFSETTO:-0700
TZNAME:PDT
DTSTART:20250309T100000
END:DAYLIGHT
BEGIN:STANDARD
TZOFFSETFROM:-0700
TZOFFSETTO:-0800
TZNAME:PST
DTSTART:20251102T090000
END:STANDARD
BEGIN:DAYLIGHT
TZOFFSETFROM:-0800
TZOFFSETTO:-0700
TZNAME:PDT
DTSTART:20260308T100000
END:DAYLIGHT
BEGIN:STANDARD
TZOFFSETFROM:-0700
TZOFFSETTO:-0800
TZNAME:PST
DTSTART:20261101T090000
END:STANDARD
END:VTIMEZONE
BEGIN:VEVENT
DTSTART;TZID=America/Los_Angeles:20251029T190000
DTEND;TZID=America/Los_Angeles:20251029T203000
DTSTAMP:20260423T065251
CREATED:20251023T183712Z
LAST-MODIFIED:20251023T183712Z
UID:10055102-1761764400-1761769800@nevehshalom.org
SUMMARY:Addressing Antisemitism & Aligning Lay & Professional Leadership for Impact
DESCRIPTION:Addressing Antisemitism & Aligning Lay & Professional Leadership for Impact\nOpen to the Community!\nWednesday\, October 29 | 7:00-8:30pm\nRSVP Here!\n\nCongregation Neveh Shalom & the Jewish Federation of Greater Portland welcomes Dr. Dean P. Bell\, President & CEO of Spertus Institute for Jewish Learning & Leadership\, to our community! He will share his expertise and lead our community in an important learning session. \nThis interactive session will contextualize contemporary antisemitism and examine a range of approaches to addressing it. We will consider real-world case studies to help participants strengthen communication (especially during times of crisis)\, set priorities for their work in this area\, and collaborate more effectively in their organizations and across their communities. We will focus on developing clear theories of change\, identifying impactful strategies\, and evaluating their effectiveness to combat antisemitism. \nThere’s no universal solution for antisemitism\, making it essential for Jewish communal professionals and lay leaders to work together strategically and in a variety of ways. \nThis event is open to the community. Refreshments will be served. \nAbout Dr. Dean P. Bell:\nDean P. Bell (PhD\, University of California\, Berkeley) is the 9th President and CEO of Spertus Institute for Jewish Learning and Leadership in Chicago. A leading voice for the advancement of Jewish higher education\, Dr. Bell has served as President of the Midwest Jewish Studies Association and has been a member of the Board of Directors of the Association for Jewish Studies. \nQuestions?\nPlease Contact Michelle Caplan | mcaplan@nevehshalom.org
URL:https://nevehshalom.org/event/addressing-antisemitism-aligning-lay-professional-leadership-for-impact/
LOCATION:Neveh Shalom\, 2900 SW Peaceful Lane\, Portland\, OR\, 97239\, United States
CATEGORIES:Adult Education,Featured
ATTACH;FMTTYPE=image/jpeg:https://nevehshalom.org/wp-content/uploads/2025/10/ef5f7dd8-4542-4834-9fde-dc42653c6c54.jpg
ORGANIZER;CN="Michelle Caplan":MAILTO:programs@nevehshalom.org
END:VEVENT
BEGIN:VEVENT
DTSTART;TZID=America/Los_Angeles:20251029T190000
DTEND;TZID=America/Los_Angeles:20251029T203000
DTSTAMP:20260423T065251
CREATED:20251023T193305Z
LAST-MODIFIED:20251023T193318Z
UID:10055313-1761764400-1761769800@nevehshalom.org
SUMMARY:CNS Sisterhood Opening Event: Tai Chi & Life Balance
DESCRIPTION:CNS Sisterhood Opening Event: Tai Chi & Life Balance\nWednesday\, October 29 | 7:00-8:30pm\nRSVP Here\nJoin CNS Sisterhood for an evening of balance and renewal. The Taoist Society will share a Tai Chi talk and demonstration\, and Rabbi Posen will offer reflections on Rosh Chodesh and the art of managing all that life brings. \nFREE for paid-up Sisterhood members  (Please click here to pay your 2025-26 Sisterhood dues)\n$18 for event only\n$36 at the door for membership \nQuestions about this program?\nContact Jennifer Kalenscher: jenkal@comcast.net \nQuestions about Sisterhood membership?\nContact Jackie Lesch: leschslive@comcast.net
URL:https://nevehshalom.org/event/32785/
LOCATION:Neveh Shalom\, 2900 SW Peaceful Lane\, Portland\, OR\, 97239\, United States
CATEGORIES:Featured,Sisterhood
ATTACH;FMTTYPE=image/png:https://nevehshalom.org/wp-content/uploads/2022/01/Neveh-Shalom-Sisterhood.png
ORGANIZER;CN="Jennifer Kalenscher":MAILTO:jenkal@comcast.net
END:VEVENT
END:VCALENDAR