BEGIN:VCALENDAR
VERSION:2.0
PRODID:-//Neveh Shalom - ECPv6.15.20//NONSGML v1.0//EN
CALSCALE:GREGORIAN
METHOD:PUBLISH
X-ORIGINAL-URL:https://nevehshalom.org
X-WR-CALDESC:Events for Neveh Shalom
REFRESH-INTERVAL;VALUE=DURATION:PT1H
X-Robots-Tag:noindex
X-PUBLISHED-TTL:PT1H
BEGIN:VTIMEZONE
TZID:America/Los_Angeles
BEGIN:DAYLIGHT
TZOFFSETFROM:-0800
TZOFFSETTO:-0700
TZNAME:PDT
DTSTART:20240310T100000
END:DAYLIGHT
BEGIN:STANDARD
TZOFFSETFROM:-0700
TZOFFSETTO:-0800
TZNAME:PST
DTSTART:20241103T090000
END:STANDARD
BEGIN:DAYLIGHT
TZOFFSETFROM:-0800
TZOFFSETTO:-0700
TZNAME:PDT
DTSTART:20250309T100000
END:DAYLIGHT
BEGIN:STANDARD
TZOFFSETFROM:-0700
TZOFFSETTO:-0800
TZNAME:PST
DTSTART:20251102T090000
END:STANDARD
BEGIN:DAYLIGHT
TZOFFSETFROM:-0800
TZOFFSETTO:-0700
TZNAME:PDT
DTSTART:20260308T100000
END:DAYLIGHT
BEGIN:STANDARD
TZOFFSETFROM:-0700
TZOFFSETTO:-0800
TZNAME:PST
DTSTART:20261101T090000
END:STANDARD
END:VTIMEZONE
BEGIN:VEVENT
DTSTART;TZID=America/Los_Angeles:20250911T190000
DTEND;TZID=America/Los_Angeles:20250911T203000
DTSTAMP:20260425T033502
CREATED:20250826T182207Z
LAST-MODIFIED:20250826T182710Z
UID:10054331-1757617200-1757622600@nevehshalom.org
SUMMARY:Israel360: The Struggle for Democracy in Israel and the US - A Joint Path Forward
DESCRIPTION:Israel360: The Struggle for Democracy in Israel and the US – A Joint Path Forward\nThursday\, September 11\n7:00-8:30pm\nRegister Here!\nAt a time when democracy is under threat from right-wing extremists in both the US and Israel\, we invite you to join us for a timely and meaningful conversation with Nadav Tamir\, Executive Director of J Street Israel. \nAbout the presenter: Nadav Tamir\, Executive Director of J Street Israel\, has served in multiple roles in the Israeli Foreign Service. They include Political Officer at the Israeli Embassy in Washington\, D. C.\, Israeli Consul General to New England\, and serving in the Policy Planning Unit of the Israeli Foreign Ministry.  He also held the position of senior adviser to the president under Shimon Peres. \nThe opinions expressed in any of the I360 programs does not represent the views of the I360 committee members nor Congregation Neveh Shalom. I360’s mission is to present a wide array of narratives about Israel in a safe space to learn\, explore and grow together. 
URL:https://nevehshalom.org/event/i360s25/
LOCATION:Neveh Shalom\, 2900 SW Peaceful Lane\, Portland\, OR\, 97239\, United States
CATEGORIES:Featured,Israel360
ATTACH;FMTTYPE=image/jpeg:https://nevehshalom.org/wp-content/uploads/2025/08/i3601.jpg
ORGANIZER;CN="Cheryl Livneh":MAILTO:livnehc@pdx.edu
END:VEVENT
END:VCALENDAR