BEGIN:VCALENDAR
VERSION:2.0
PRODID:-//Neveh Shalom - ECPv6.15.20//NONSGML v1.0//EN
CALSCALE:GREGORIAN
METHOD:PUBLISH
X-ORIGINAL-URL:https://nevehshalom.org
X-WR-CALDESC:Events for Neveh Shalom
REFRESH-INTERVAL;VALUE=DURATION:PT1H
X-Robots-Tag:noindex
X-PUBLISHED-TTL:PT1H
BEGIN:VTIMEZONE
TZID:America/Los_Angeles
BEGIN:DAYLIGHT
TZOFFSETFROM:-0800
TZOFFSETTO:-0700
TZNAME:PDT
DTSTART:20230312T100000
END:DAYLIGHT
BEGIN:STANDARD
TZOFFSETFROM:-0700
TZOFFSETTO:-0800
TZNAME:PST
DTSTART:20231105T090000
END:STANDARD
BEGIN:DAYLIGHT
TZOFFSETFROM:-0800
TZOFFSETTO:-0700
TZNAME:PDT
DTSTART:20240310T100000
END:DAYLIGHT
BEGIN:STANDARD
TZOFFSETFROM:-0700
TZOFFSETTO:-0800
TZNAME:PST
DTSTART:20241103T090000
END:STANDARD
BEGIN:DAYLIGHT
TZOFFSETFROM:-0800
TZOFFSETTO:-0700
TZNAME:PDT
DTSTART:20250309T100000
END:DAYLIGHT
BEGIN:STANDARD
TZOFFSETFROM:-0700
TZOFFSETTO:-0800
TZNAME:PST
DTSTART:20251102T090000
END:STANDARD
END:VTIMEZONE
BEGIN:VEVENT
DTSTART;TZID=America/Los_Angeles:20240614T171500
DTEND;TZID=America/Los_Angeles:20240614T200000
DTSTAMP:20260419T051123
CREATED:20240604T184524Z
LAST-MODIFIED:20240605T210208Z
UID:10051262-1718385300-1718395200@nevehshalom.org
SUMMARY:Pride Shabbat Happenings
DESCRIPTION:Join us for any and all of these fun Shabbat activities!\nJoin us for Pride Shabbat on the Plaza and experience the warmth of our inclusive community\, where all are welcome. Enjoy a delightful Drag Queen Storytime with Polly Pop Tart\, a pre-service opportunity to schmooze\, and a beautiful outdoor Shabbat service\, followed by a light dinner and drinks. \n\nDrag Queen Storytime with Poly Pop Tart\n5:15pm\, Stern Family Courtyard \nFamilies\, kids\, and kids at heart are invited to join us for this fabulous storytime! \n\nLGBTQIA+ Schmooze\n5:30pm\, Isaak Foyer \nJoin your community for a social meet and greet before the Pride Shabbat service! \n\nTween\, Tween\, and Ally Gathering\n5:45pm\, Room 102 \nCalling all tweens and teens who identify as LGBTQIA+ (allies welcome too!) to join Danit Rothstein for a half-hour of playful games in a community that celebrates you! \n\nPride Shabbat Service light dinner\, and drinks\n6:15pm\, Holzman Plaza \nWelcome Shabbat with a beautiful outdoor service\, led by Rabbi David Kosak and Cantor Eyal Bitton\, then stay after to mingle while enjoying colorful food\, a signature cocktail\, and other drinks! \nSponsored by Harvey and Sandy Platt \nClick here to learn more about our themes\, sponsorship\, and volunteer opportunities.
URL:https://nevehshalom.org/event/pride-shabbat-on-the-plaza24/
LOCATION:Holzman Plaza\, 2900 SW Peaceful Ln.\, Portland\, OR\, 97239\, United States
CATEGORIES:Featured,Keshet,Shabbat,Shabbat on the Plaza
ATTACH;FMTTYPE=image/png:https://nevehshalom.org/wp-content/uploads/2024/05/Pride-Shabbat-on-the-plaza-Header.png
ORGANIZER;CN="Lisa Richmond":MAILTO:lrichmond@nevehshalom.org
END:VEVENT
END:VCALENDAR