BEGIN:VCALENDAR
VERSION:2.0
PRODID:-//Neveh Shalom - ECPv6.15.20//NONSGML v1.0//EN
CALSCALE:GREGORIAN
METHOD:PUBLISH
X-WR-CALNAME:Neveh Shalom
X-ORIGINAL-URL:https://nevehshalom.org
X-WR-CALDESC:Events for Neveh Shalom
REFRESH-INTERVAL;VALUE=DURATION:PT1H
X-Robots-Tag:noindex
X-PUBLISHED-TTL:PT1H
BEGIN:VTIMEZONE
TZID:America/Los_Angeles
BEGIN:DAYLIGHT
TZOFFSETFROM:-0800
TZOFFSETTO:-0700
TZNAME:PDT
DTSTART:20240310T100000
END:DAYLIGHT
BEGIN:STANDARD
TZOFFSETFROM:-0700
TZOFFSETTO:-0800
TZNAME:PST
DTSTART:20241103T090000
END:STANDARD
BEGIN:DAYLIGHT
TZOFFSETFROM:-0800
TZOFFSETTO:-0700
TZNAME:PDT
DTSTART:20250309T100000
END:DAYLIGHT
BEGIN:STANDARD
TZOFFSETFROM:-0700
TZOFFSETTO:-0800
TZNAME:PST
DTSTART:20251102T090000
END:STANDARD
BEGIN:DAYLIGHT
TZOFFSETFROM:-0800
TZOFFSETTO:-0700
TZNAME:PDT
DTSTART:20260308T100000
END:DAYLIGHT
BEGIN:STANDARD
TZOFFSETFROM:-0700
TZOFFSETTO:-0800
TZNAME:PST
DTSTART:20261101T090000
END:STANDARD
END:VTIMEZONE
BEGIN:VEVENT
DTSTART;TZID=America/Los_Angeles:20250428T190000
DTEND;TZID=America/Los_Angeles:20250428T200000
DTSTAMP:20260422T040737
CREATED:20250403T231908Z
LAST-MODIFIED:20250403T231908Z
UID:10054025-1745866800-1745870400@nevehshalom.org
SUMMARY:Sisterhood Book Club: The Gates of Gaza
DESCRIPTION:Sisterhood Book Club: The Gates of Gaza\nMonday\, April 28\, 7:00-8:00 PM\nContact for Zoom link: Diane Kahn  \nJoin the Sisterhood for their monthly book club\ndiscussion\, this month on the book The Gates of Gaza.
URL:https://nevehshalom.org/event/sisterhood-book-club-the-gates-of-gaza/
LOCATION:Virtual Event
CATEGORIES:Sisterhood,Virtual Event
ATTACH;FMTTYPE=image/png:https://nevehshalom.org/wp-content/uploads/2022/01/Sisterhood-Bookgroup.png
ORGANIZER;CN="Diane Kahn":MAILTO:dianeandjosh@hotmail.com
END:VEVENT
END:VCALENDAR