BEGIN:VCALENDAR
VERSION:2.0
PRODID:-//Neveh Shalom - ECPv6.15.20//NONSGML v1.0//EN
CALSCALE:GREGORIAN
METHOD:PUBLISH
X-WR-CALNAME:Neveh Shalom
X-ORIGINAL-URL:https://nevehshalom.org
X-WR-CALDESC:Events for Neveh Shalom
REFRESH-INTERVAL;VALUE=DURATION:PT1H
X-Robots-Tag:noindex
X-PUBLISHED-TTL:PT1H
BEGIN:VTIMEZONE
TZID:America/Los_Angeles
BEGIN:DAYLIGHT
TZOFFSETFROM:-0800
TZOFFSETTO:-0700
TZNAME:PDT
DTSTART:20250309T100000
END:DAYLIGHT
BEGIN:STANDARD
TZOFFSETFROM:-0700
TZOFFSETTO:-0800
TZNAME:PST
DTSTART:20251102T090000
END:STANDARD
BEGIN:DAYLIGHT
TZOFFSETFROM:-0800
TZOFFSETTO:-0700
TZNAME:PDT
DTSTART:20260308T100000
END:DAYLIGHT
BEGIN:STANDARD
TZOFFSETFROM:-0700
TZOFFSETTO:-0800
TZNAME:PST
DTSTART:20261101T090000
END:STANDARD
BEGIN:DAYLIGHT
TZOFFSETFROM:-0800
TZOFFSETTO:-0700
TZNAME:PDT
DTSTART:20270314T100000
END:DAYLIGHT
BEGIN:STANDARD
TZOFFSETFROM:-0700
TZOFFSETTO:-0800
TZNAME:PST
DTSTART:20271107T090000
END:STANDARD
END:VTIMEZONE
BEGIN:VEVENT
DTSTART;TZID=America/Los_Angeles:20260521T120000
DTEND;TZID=America/Los_Angeles:20260521T130000
DTSTAMP:20260425T155625
CREATED:20251125T185154Z
LAST-MODIFIED:20260319T175255Z
UID:10055593-1779364800-1779368400@nevehshalom.org
SUMMARY:Wise Women Brown Bag Lunch
DESCRIPTION:Wise Women Brown Bag Lunch\nThird Thursdays | 12:00-1:00pm | Room 102\nWise Women is a welcoming group at Neveh Shalom where women can come together\, socialize\, and support one another. \nNo RSVP needed\, just drop in! \nQuestions? Contact Jennifer Kalenscher.
URL:https://nevehshalom.org/event/wise-women-5/2026-05-21/
LOCATION:Neveh Shalom\, 2900 SW Peaceful Lane\, Portland\, OR\, 97239\, United States
CATEGORIES:Sisterhood
ATTACH;FMTTYPE=image/png:https://nevehshalom.org/wp-content/uploads/2022/06/Wise-Women-Brown-Bag-Lunch-header.png
ORGANIZER;CN="Jennifer Kalenscher":MAILTO:jenkal@comcast.net
END:VEVENT
END:VCALENDAR