BEGIN:VCALENDAR
VERSION:2.0
PRODID:-//Neveh Shalom - ECPv6.15.20//NONSGML v1.0//EN
CALSCALE:GREGORIAN
METHOD:PUBLISH
X-ORIGINAL-URL:https://nevehshalom.org
X-WR-CALDESC:Events for Neveh Shalom
REFRESH-INTERVAL;VALUE=DURATION:PT1H
X-Robots-Tag:noindex
X-PUBLISHED-TTL:PT1H
BEGIN:VTIMEZONE
TZID:America/Los_Angeles
BEGIN:DAYLIGHT
TZOFFSETFROM:-0800
TZOFFSETTO:-0700
TZNAME:PDT
DTSTART:20230312T100000
END:DAYLIGHT
BEGIN:STANDARD
TZOFFSETFROM:-0700
TZOFFSETTO:-0800
TZNAME:PST
DTSTART:20231105T090000
END:STANDARD
BEGIN:DAYLIGHT
TZOFFSETFROM:-0800
TZOFFSETTO:-0700
TZNAME:PDT
DTSTART:20240310T100000
END:DAYLIGHT
BEGIN:STANDARD
TZOFFSETFROM:-0700
TZOFFSETTO:-0800
TZNAME:PST
DTSTART:20241103T090000
END:STANDARD
BEGIN:DAYLIGHT
TZOFFSETFROM:-0800
TZOFFSETTO:-0700
TZNAME:PDT
DTSTART:20250309T100000
END:DAYLIGHT
BEGIN:STANDARD
TZOFFSETFROM:-0700
TZOFFSETTO:-0800
TZNAME:PST
DTSTART:20251102T090000
END:STANDARD
BEGIN:DAYLIGHT
TZOFFSETFROM:-0800
TZOFFSETTO:-0700
TZNAME:PDT
DTSTART:20260308T100000
END:DAYLIGHT
BEGIN:STANDARD
TZOFFSETFROM:-0700
TZOFFSETTO:-0800
TZNAME:PST
DTSTART:20261101T090000
END:STANDARD
END:VTIMEZONE
BEGIN:VEVENT
DTSTART;TZID=America/Los_Angeles:20250702T190000
DTEND;TZID=America/Los_Angeles:20250702T203000
DTSTAMP:20260420T034650
CREATED:20250617T195831Z
LAST-MODIFIED:20250617T201320Z
UID:10054230-1751482800-1751488200@nevehshalom.org
SUMMARY:Interfaith Sisters in Unity
DESCRIPTION:Interfaith Sisters in Unity\nFirst Wednesdays\, 7:00pm\nZoom \nThe CNS Sisterhood would like to invite all women and those who identify as women to participate in their Interfaith Group. This group brings CNS members together with women of other faiths to learn\, grow\, and create opportunities to develop friendships. CNS Sisterhood Interfaith group meets every month on the first Wednesday of the month at 7:00pm. To register\, or for more information\, please contact Michelle Imori-Goldenberg smallfryeterp@icloud.com.
URL:https://nevehshalom.org/event/interfaith-sisters-in-unity-2025/2025-07-02/
LOCATION:Virtual Event
CATEGORIES:Virtual Event
ATTACH;FMTTYPE=image/png:https://nevehshalom.org/wp-content/uploads/2025/02/InterfaITH-women-logo.png
ORGANIZER;CN="Michelle Imori-Goldenberg":MAILTO:smallfryeterp@icloud.com
END:VEVENT
BEGIN:VEVENT
DTSTART;TZID=America/Los_Angeles:20250604T190000
DTEND;TZID=America/Los_Angeles:20250604T203000
DTSTAMP:20260420T034650
CREATED:20240910T193918Z
LAST-MODIFIED:20250501T222856Z
UID:10051352-1749063600-1749069000@nevehshalom.org
SUMMARY:Interfaith Sisters in Unity
DESCRIPTION:First Wednesdays\, 7:00pm \nThe CNS Sisterhood would like to invite all women and those who identify as women to participate in their Interfaith Group. This group brings CNS members together with women of other faiths to learn\, grow\, and create opportunities to develop friendships. CNS Sisterhood Interfaith group meets every month on the first Wednesday of the month at 7:00pm. To register\, or for more information\, please contact Michelle Imori-Goldenberg smallfryeterp@icloud.com.
URL:https://nevehshalom.org/event/cns-sisterhood-interfaith-meeting-2-3-2/2025-06-04/
LOCATION:Virtual Event
CATEGORIES:Featured,Sisterhood
ATTACH;FMTTYPE=image/jpeg:https://nevehshalom.org/wp-content/uploads/2025/02/Sisters-in-Unity-Calendar-Image.jpg
ORGANIZER;CN="Sisterhood":MAILTO:coprez22@gmail.com
END:VEVENT
BEGIN:VEVENT
DTSTART;TZID=America/Los_Angeles:20250507T190000
DTEND;TZID=America/Los_Angeles:20250507T203000
DTSTAMP:20260420T034650
CREATED:20240910T193918Z
LAST-MODIFIED:20250501T222856Z
UID:10051351-1746644400-1746649800@nevehshalom.org
SUMMARY:Interfaith Sisters in Unity
DESCRIPTION:First Wednesdays\, 7:00pm \nThe CNS Sisterhood would like to invite all women and those who identify as women to participate in their Interfaith Group. This group brings CNS members together with women of other faiths to learn\, grow\, and create opportunities to develop friendships. CNS Sisterhood Interfaith group meets every month on the first Wednesday of the month at 7:00pm. To register\, or for more information\, please contact Michelle Imori-Goldenberg smallfryeterp@icloud.com.
URL:https://nevehshalom.org/event/cns-sisterhood-interfaith-meeting-2-3-2/2025-05-07/
LOCATION:Virtual Event
CATEGORIES:Featured,Sisterhood
ATTACH;FMTTYPE=image/jpeg:https://nevehshalom.org/wp-content/uploads/2025/02/Sisters-in-Unity-Calendar-Image.jpg
ORGANIZER;CN="Sisterhood":MAILTO:coprez22@gmail.com
END:VEVENT
BEGIN:VEVENT
DTSTART;TZID=America/Los_Angeles:20250428T190000
DTEND;TZID=America/Los_Angeles:20250428T200000
DTSTAMP:20260420T034650
CREATED:20250403T231908Z
LAST-MODIFIED:20250403T231908Z
UID:10054025-1745866800-1745870400@nevehshalom.org
SUMMARY:Sisterhood Book Club: The Gates of Gaza
DESCRIPTION:Sisterhood Book Club: The Gates of Gaza\nMonday\, April 28\, 7:00-8:00 PM\nContact for Zoom link: Diane Kahn  \nJoin the Sisterhood for their monthly book club\ndiscussion\, this month on the book The Gates of Gaza.
URL:https://nevehshalom.org/event/sisterhood-book-club-the-gates-of-gaza/
LOCATION:Virtual Event
CATEGORIES:Sisterhood,Virtual Event
ATTACH;FMTTYPE=image/png:https://nevehshalom.org/wp-content/uploads/2022/01/Sisterhood-Bookgroup.png
ORGANIZER;CN="Diane Kahn":MAILTO:dianeandjosh@hotmail.com
END:VEVENT
BEGIN:VEVENT
DTSTART;TZID=America/Los_Angeles:20250402T190000
DTEND;TZID=America/Los_Angeles:20250402T203000
DTSTAMP:20260420T034650
CREATED:20240910T193918Z
LAST-MODIFIED:20250501T222856Z
UID:10051350-1743620400-1743625800@nevehshalom.org
SUMMARY:Interfaith Sisters in Unity
DESCRIPTION:First Wednesdays\, 7:00pm \nThe CNS Sisterhood would like to invite all women and those who identify as women to participate in their Interfaith Group. This group brings CNS members together with women of other faiths to learn\, grow\, and create opportunities to develop friendships. CNS Sisterhood Interfaith group meets every month on the first Wednesday of the month at 7:00pm. To register\, or for more information\, please contact Michelle Imori-Goldenberg smallfryeterp@icloud.com.
URL:https://nevehshalom.org/event/cns-sisterhood-interfaith-meeting-2-3-2/2025-04-02/
LOCATION:Virtual Event
CATEGORIES:Featured,Sisterhood
ATTACH;FMTTYPE=image/jpeg:https://nevehshalom.org/wp-content/uploads/2025/02/Sisters-in-Unity-Calendar-Image.jpg
ORGANIZER;CN="Sisterhood":MAILTO:coprez22@gmail.com
END:VEVENT
BEGIN:VEVENT
DTSTART;TZID=America/Los_Angeles:20250305T190000
DTEND;TZID=America/Los_Angeles:20250305T203000
DTSTAMP:20260420T034650
CREATED:20240910T193918Z
LAST-MODIFIED:20250501T222856Z
UID:10051349-1741201200-1741206600@nevehshalom.org
SUMMARY:Interfaith Sisters in Unity
DESCRIPTION:First Wednesdays\, 7:00pm \nThe CNS Sisterhood would like to invite all women and those who identify as women to participate in their Interfaith Group. This group brings CNS members together with women of other faiths to learn\, grow\, and create opportunities to develop friendships. CNS Sisterhood Interfaith group meets every month on the first Wednesday of the month at 7:00pm. To register\, or for more information\, please contact Michelle Imori-Goldenberg smallfryeterp@icloud.com.
URL:https://nevehshalom.org/event/cns-sisterhood-interfaith-meeting-2-3-2/2025-03-05/
LOCATION:Virtual Event
CATEGORIES:Featured,Sisterhood
ATTACH;FMTTYPE=image/jpeg:https://nevehshalom.org/wp-content/uploads/2025/02/Sisters-in-Unity-Calendar-Image.jpg
ORGANIZER;CN="Sisterhood":MAILTO:coprez22@gmail.com
END:VEVENT
BEGIN:VEVENT
DTSTART;TZID=America/Los_Angeles:20250205T190000
DTEND;TZID=America/Los_Angeles:20250205T203000
DTSTAMP:20260420T034650
CREATED:20240910T193918Z
LAST-MODIFIED:20250501T222856Z
UID:10051348-1738782000-1738787400@nevehshalom.org
SUMMARY:Interfaith Sisters in Unity
DESCRIPTION:First Wednesdays\, 7:00pm \nThe CNS Sisterhood would like to invite all women and those who identify as women to participate in their Interfaith Group. This group brings CNS members together with women of other faiths to learn\, grow\, and create opportunities to develop friendships. CNS Sisterhood Interfaith group meets every month on the first Wednesday of the month at 7:00pm. To register\, or for more information\, please contact Michelle Imori-Goldenberg smallfryeterp@icloud.com.
URL:https://nevehshalom.org/event/cns-sisterhood-interfaith-meeting-2-3-2/2025-02-05/
LOCATION:Virtual Event
CATEGORIES:Featured,Sisterhood
ATTACH;FMTTYPE=image/jpeg:https://nevehshalom.org/wp-content/uploads/2025/02/Sisters-in-Unity-Calendar-Image.jpg
ORGANIZER;CN="Sisterhood":MAILTO:coprez22@gmail.com
END:VEVENT
BEGIN:VEVENT
DTSTART;TZID=America/Los_Angeles:20250101T190000
DTEND;TZID=America/Los_Angeles:20250101T203000
DTSTAMP:20260420T034650
CREATED:20240910T193918Z
LAST-MODIFIED:20250501T222856Z
UID:10051347-1735758000-1735763400@nevehshalom.org
SUMMARY:Interfaith Sisters in Unity
DESCRIPTION:First Wednesdays\, 7:00pm \nThe CNS Sisterhood would like to invite all women and those who identify as women to participate in their Interfaith Group. This group brings CNS members together with women of other faiths to learn\, grow\, and create opportunities to develop friendships. CNS Sisterhood Interfaith group meets every month on the first Wednesday of the month at 7:00pm. To register\, or for more information\, please contact Michelle Imori-Goldenberg smallfryeterp@icloud.com.
URL:https://nevehshalom.org/event/cns-sisterhood-interfaith-meeting-2-3-2/2025-01-01/
LOCATION:Virtual Event
CATEGORIES:Featured,Sisterhood
ATTACH;FMTTYPE=image/jpeg:https://nevehshalom.org/wp-content/uploads/2025/02/Sisters-in-Unity-Calendar-Image.jpg
ORGANIZER;CN="Sisterhood":MAILTO:coprez22@gmail.com
END:VEVENT
BEGIN:VEVENT
DTSTART;TZID=America/Los_Angeles:20241204T190000
DTEND;TZID=America/Los_Angeles:20241204T203000
DTSTAMP:20260420T034650
CREATED:20240910T193918Z
LAST-MODIFIED:20250501T222856Z
UID:10051346-1733338800-1733344200@nevehshalom.org
SUMMARY:Interfaith Sisters in Unity
DESCRIPTION:First Wednesdays\, 7:00pm \nThe CNS Sisterhood would like to invite all women and those who identify as women to participate in their Interfaith Group. This group brings CNS members together with women of other faiths to learn\, grow\, and create opportunities to develop friendships. CNS Sisterhood Interfaith group meets every month on the first Wednesday of the month at 7:00pm. To register\, or for more information\, please contact Michelle Imori-Goldenberg smallfryeterp@icloud.com.
URL:https://nevehshalom.org/event/cns-sisterhood-interfaith-meeting-2-3-2/2024-12-04/
LOCATION:Virtual Event
CATEGORIES:Featured,Sisterhood
ATTACH;FMTTYPE=image/jpeg:https://nevehshalom.org/wp-content/uploads/2025/02/Sisters-in-Unity-Calendar-Image.jpg
ORGANIZER;CN="Sisterhood":MAILTO:coprez22@gmail.com
END:VEVENT
BEGIN:VEVENT
DTSTART;TZID=America/Los_Angeles:20241106T190000
DTEND;TZID=America/Los_Angeles:20241106T203000
DTSTAMP:20260420T034650
CREATED:20240910T193918Z
LAST-MODIFIED:20250501T222856Z
UID:10051345-1730919600-1730925000@nevehshalom.org
SUMMARY:Interfaith Sisters in Unity
DESCRIPTION:First Wednesdays\, 7:00pm \nThe CNS Sisterhood would like to invite all women and those who identify as women to participate in their Interfaith Group. This group brings CNS members together with women of other faiths to learn\, grow\, and create opportunities to develop friendships. CNS Sisterhood Interfaith group meets every month on the first Wednesday of the month at 7:00pm. To register\, or for more information\, please contact Michelle Imori-Goldenberg smallfryeterp@icloud.com.
URL:https://nevehshalom.org/event/cns-sisterhood-interfaith-meeting-2-3-2/2024-11-06/
LOCATION:Virtual Event
CATEGORIES:Featured,Sisterhood
ATTACH;FMTTYPE=image/jpeg:https://nevehshalom.org/wp-content/uploads/2025/02/Sisters-in-Unity-Calendar-Image.jpg
ORGANIZER;CN="Sisterhood":MAILTO:coprez22@gmail.com
END:VEVENT
BEGIN:VEVENT
DTSTART;TZID=America/Los_Angeles:20241009T190000
DTEND;TZID=America/Los_Angeles:20241009T203000
DTSTAMP:20260420T034650
CREATED:20240910T193717Z
LAST-MODIFIED:20240910T193719Z
UID:10050756-1728500400-1728505800@nevehshalom.org
SUMMARY:Interfaith Sisters in Unity
DESCRIPTION:First Wednesdays\, 7:00pm \nThe CNS Sisterhood would like to invite all women and those who identify as women to participate in their Interfaith Group. This group brings CNS members together with women of other faiths to learn\, grow\, and create opportunities to develop friendships. CNS Sisterhood Interfaith group meets every month on the first Wednesday of the month at 7:00pm. To register\, please contact Michelle Imori-Goldenberg smallfryeterp@icloud.com.
URL:https://nevehshalom.org/event/cns-sisterhood-interfaith-meeting-2-3/
LOCATION:Virtual Event
CATEGORIES:Featured,Sisterhood
ATTACH;FMTTYPE=image/png:https://nevehshalom.org/wp-content/uploads/2022/01/Neveh-Shalom-Sisterhood.png
ORGANIZER;CN="Sisterhood":MAILTO:coprez22@gmail.com
END:VEVENT
BEGIN:VEVENT
DTSTART;TZID=America/Los_Angeles:20240620T120000
DTEND;TZID=America/Los_Angeles:20240620T130000
DTSTAMP:20260420T034650
CREATED:20240603T182938Z
LAST-MODIFIED:20240603T182938Z
UID:10051261-1718884800-1718888400@nevehshalom.org
SUMMARY:"Einstein and the Rabbi" with Rabbi Eve Posen (Zoom)
DESCRIPTION:Thursdays\, June 20-August 8 (no class July 4) 12pm-1pm ZOOM.  \nJoin Rabbi Posen this summer on Zoom as we delve into the words of Rabbi Naomi Levy in her book Einstein and the Rabbi.  Over 7 sessions we’ll explore each section of the book\, and reflect on how it impacts our own lives and the larger community we live in. \nCNS members FREE| Non-CNS Members $36.00* \n*Participants are responsible for purchasing their own book. \nClick here to Register
URL:https://nevehshalom.org/event/einstein-and-the-rabbi-with-rabbi-eve-posen-zoom/
LOCATION:Virtual Event
CATEGORIES:Adult Education,Featured
ATTACH;FMTTYPE=image/jpeg:https://nevehshalom.org/wp-content/uploads/2019/01/rabbi-eve-posen-2019.jpg
ORGANIZER;CN="Rabbi Eve Posen":MAILTO:eposen@nevehshalom.org
END:VEVENT
END:VCALENDAR